BEGIN:VCALENDAR
VERSION:2.0
PRODID:-//wp-events-plugin.com//6.4.7.3//EN
BEGIN:VEVENT
UID:213@huisvoordebinnenstad.nl
DTSTART;TZID=Europe/Amsterdam:20260427T000000
DTEND;TZID=Europe/Amsterdam:20260427T000000
DTSTAMP:20260209T131340Z
URL:https://huisvoordebinnenstad.nl/events/?event=code-oranje-2
SUMMARY:Code Oranje
DESCRIPTION:
CATEGORIES:Activiteit,Muziek
LOCATION:Hunnerpark\, Hunnerpark\, Nijmegen\, Nauru
X-APPLE-STRUCTURED-LOCATION;VALUE=URI;X-ADDRESS=Hunnerpark\, Nijmegen\, Nau
 ru;X-APPLE-RADIUS=100;X-TITLE=Hunnerpark:geo:0,0
END:VEVENT
BEGIN:VTIMEZONE
TZID:Europe/Amsterdam
X-LIC-LOCATION:Europe/Amsterdam
BEGIN:DAYLIGHT
DTSTART:20260329T030000
TZOFFSETFROM:+0100
TZOFFSETTO:+0200
TZNAME:CEST
END:DAYLIGHT
END:VTIMEZONE
END:VCALENDAR