BEGIN:VCALENDAR
VERSION:2.0
PRODID:-//wp-events-plugin.com//6.4.7.3//EN
BEGIN:VEVENT
UID:231@huisvoordebinnenstad.nl
DTSTART;TZID=Europe/Amsterdam:20260529T000000
DTEND;TZID=Europe/Amsterdam:20260530T000000
DTSTAMP:20260210T085449Z
URL:https://huisvoordebinnenstad.nl/events/?event=crotona-bay
SUMMARY:Crotona Bay
DESCRIPTION:
CATEGORIES:Activiteit,Eten &amp; Drinken
LOCATION:Waalkade Oost (Casino)\, Waalkade Oost\, Nijmegen\, Nederland
X-APPLE-STRUCTURED-LOCATION;VALUE=URI;X-ADDRESS=Waalkade Oost\, Nijmegen\, 
 Nederland;X-APPLE-RADIUS=100;X-TITLE=Waalkade Oost (Casino):geo:0,0
END:VEVENT
BEGIN:VTIMEZONE
TZID:Europe/Amsterdam
X-LIC-LOCATION:Europe/Amsterdam
BEGIN:DAYLIGHT
DTSTART:20260329T030000
TZOFFSETFROM:+0100
TZOFFSETTO:+0200
TZNAME:CEST
END:DAYLIGHT
END:VTIMEZONE
END:VCALENDAR