BEGIN:VCALENDAR
VERSION:2.0
PRODID:-//wp-events-plugin.com//6.4.7.3//EN
BEGIN:VEVENT
UID:216@huisvoordebinnenstad.nl
DTSTART;TZID=Europe/Amsterdam:20260427T000000
DTEND;TZID=Europe/Amsterdam:20260927T000000
DTSTAMP:20260210T080941Z
URL:https://huisvoordebinnenstad.nl/events/?event=cultureel-terras-de-kaai
 j
SUMMARY:Cultureel terras de Kaaij
DESCRIPTION:
CATEGORIES:Activiteit
LOCATION:Lindenberghaven 1 C 6511 XT  NIJMEGEN\, Lindenberghaven\, Nijmegen
 \, Nederland
X-APPLE-STRUCTURED-LOCATION;VALUE=URI;X-ADDRESS=Lindenberghaven\, Nijmegen\
 , Nederland;X-APPLE-RADIUS=100;X-TITLE=Lindenberghaven 1 C 6511 XT  NIJMEG
 EN:geo:0,0
END:VEVENT
BEGIN:VTIMEZONE
TZID:Europe/Amsterdam
X-LIC-LOCATION:Europe/Amsterdam
BEGIN:DAYLIGHT
DTSTART:20260329T030000
TZOFFSETFROM:+0100
TZOFFSETTO:+0200
TZNAME:CEST
END:DAYLIGHT
END:VTIMEZONE
END:VCALENDAR