BEGIN:VCALENDAR
VERSION:2.0
PRODID:-//wp-events-plugin.com//6.4.7.3//EN
BEGIN:VEVENT
UID:129@huisvoordebinnenstad.nl
DTSTART;TZID=Europe/Amsterdam;VALUE=DATE:20250502
DTEND;TZID=Europe/Amsterdam;VALUE=DATE:20250929
DTSTAMP:20250410T103551Z
URL:https://huisvoordebinnenstad.nl/events/?event=de-kaaij
SUMMARY:De Kaaij
DESCRIPTION:
CATEGORIES:Activiteit,Muziek
LOCATION:De kaaij\, De Kaaij\, Nijmegen\, Nederland
X-APPLE-STRUCTURED-LOCATION;VALUE=URI;X-ADDRESS=De Kaaij\, Nijmegen\, Neder
 land;X-APPLE-RADIUS=100;X-TITLE=De kaaij:geo:0,0
END:VEVENT
BEGIN:VTIMEZONE
TZID:Europe/Amsterdam
X-LIC-LOCATION:Europe/Amsterdam
BEGIN:DAYLIGHT
DTSTART:20250330T030000
TZOFFSETFROM:+0100
TZOFFSETTO:+0200
TZNAME:CEST
END:DAYLIGHT
END:VTIMEZONE
END:VCALENDAR