BEGIN:VCALENDAR
VERSION:2.0
PRODID:-//wp-events-plugin.com//6.4.7.3//EN
BEGIN:VEVENT
UID:248@huisvoordebinnenstad.nl
DTSTART;TZID=Europe/Amsterdam:20260626T000000
DTEND;TZID=Europe/Amsterdam:20260627T000000
DTSTAMP:20260210T091353Z
URL:https://huisvoordebinnenstad.nl/events/?event=het-wijn-festijn-3
SUMMARY:Het Wijn Festijn
DESCRIPTION:
CATEGORIES:Eten &amp; Drinken
LOCATION:Kronenburgerpark\, Kronenburgerpark\, Nijmegen\, Nederland
X-APPLE-STRUCTURED-LOCATION;VALUE=URI;X-ADDRESS=Kronenburgerpark\, Nijmegen
 \, Nederland;X-APPLE-RADIUS=100;X-TITLE=Kronenburgerpark:geo:0,0
END:VEVENT
BEGIN:VTIMEZONE
TZID:Europe/Amsterdam
X-LIC-LOCATION:Europe/Amsterdam
BEGIN:DAYLIGHT
DTSTART:20260329T030000
TZOFFSETFROM:+0100
TZOFFSETTO:+0200
TZNAME:CEST
END:DAYLIGHT
END:VTIMEZONE
END:VCALENDAR