BEGIN:VCALENDAR
VERSION:2.0
PRODID:-//wp-events-plugin.com//6.4.7.3//EN
BEGIN:VEVENT
UID:250@huisvoordebinnenstad.nl
DTSTART;TZID=Europe/Amsterdam:20260719T000000
DTEND;TZID=Europe/Amsterdam:20260724T000000
DTSTAMP:20260210T092235Z
URL:https://huisvoordebinnenstad.nl/events/?event=internationale-vierdaags
 e-afstandsmarsen-nijmegen
SUMMARY:Internationale Vierdaagse Afstandsmarsen Nijmegen
DESCRIPTION:
CATEGORIES:Sport
LOCATION:Wedren\, Wedren\, Nijmegen\, Nederland
X-APPLE-STRUCTURED-LOCATION;VALUE=URI;X-ADDRESS=Wedren\, Nijmegen\, Nederla
 nd;X-APPLE-RADIUS=100;X-TITLE=Wedren:geo:0,0
END:VEVENT
BEGIN:VTIMEZONE
TZID:Europe/Amsterdam
X-LIC-LOCATION:Europe/Amsterdam
BEGIN:DAYLIGHT
DTSTART:20260329T030000
TZOFFSETFROM:+0100
TZOFFSETTO:+0200
TZNAME:CEST
END:DAYLIGHT
END:VTIMEZONE
END:VCALENDAR