BEGIN:VCALENDAR
VERSION:2.0
PRODID:-//wp-events-plugin.com//6.4.7.3//EN
BEGIN:VEVENT
UID:270@huisvoordebinnenstad.nl
DTSTART;TZID=Europe/Amsterdam:20261114T000000
DTEND;TZID=Europe/Amsterdam:20261114T000000
DTSTAMP:20260210T094125Z
URL:https://huisvoordebinnenstad.nl/events/?event=intocht-sinterklaas-nijm
 egen-2
SUMMARY:Intocht Sinterklaas Nijmegen
DESCRIPTION:
CATEGORIES:Activiteit
LOCATION:Waalkade\, Waalkade\, Nijmegen\, Nederland
X-APPLE-STRUCTURED-LOCATION;VALUE=URI;X-ADDRESS=Waalkade\, Nijmegen\, Neder
 land;X-APPLE-RADIUS=100;X-TITLE=Waalkade:geo:0,0
END:VEVENT
BEGIN:VTIMEZONE
TZID:Europe/Amsterdam
X-LIC-LOCATION:Europe/Amsterdam
BEGIN:STANDARD
DTSTART:20261025T020000
TZOFFSETFROM:+0200
TZOFFSETTO:+0100
TZNAME:CET
END:STANDARD
END:VTIMEZONE
END:VCALENDAR