BEGIN:VCALENDAR
VERSION:2.0
PRODID:-//wp-events-plugin.com//6.4.7.3//EN
BEGIN:VEVENT
UID:255@huisvoordebinnenstad.nl
DTSTART;TZID=Europe/Amsterdam:20260815T000000
DTEND;TZID=Europe/Amsterdam:20260830T000000
DTSTAMP:20260210T092838Z
URL:https://huisvoordebinnenstad.nl/events/?event=introductie-koningsplein
 -2026
SUMMARY:Introductie Koningsplein
DESCRIPTION:
CATEGORIES:Muziek
LOCATION:Koningstraat/Koningsplein\, Koningsplein\, Nijmegen\, 6511 KL\, Ne
 derland
X-APPLE-STRUCTURED-LOCATION;VALUE=URI;X-ADDRESS=Koningsplein\, Nijmegen\, 6
 511 KL\, Nederland;X-APPLE-RADIUS=100;X-TITLE=Koningstraat/Koningsplein:ge
 o:0,0
END:VEVENT
BEGIN:VTIMEZONE
TZID:Europe/Amsterdam
X-LIC-LOCATION:Europe/Amsterdam
BEGIN:DAYLIGHT
DTSTART:20260329T030000
TZOFFSETFROM:+0100
TZOFFSETTO:+0200
TZNAME:CEST
END:DAYLIGHT
END:VTIMEZONE
END:VCALENDAR