BEGIN:VCALENDAR
VERSION:2.0
PRODID:-//wp-events-plugin.com//6.4.7.3//EN
BEGIN:VEVENT
UID:218@huisvoordebinnenstad.nl
DTSTART;TZID=Europe/Amsterdam:20260427T000000
DTEND;TZID=Europe/Amsterdam:20260427T000000
DTSTAMP:20260210T082705Z
URL:https://huisvoordebinnenstad.nl/events/?event=koningsmarktt-goffertwei
 de
SUMMARY:Koningsmarktt Goffertweide
DESCRIPTION:
CATEGORIES:Activiteit,Muziek
LOCATION:Goffertpark\, Goffertpark\, Nijmegen\, Nederland
X-APPLE-STRUCTURED-LOCATION;VALUE=URI;X-ADDRESS=Goffertpark\, Nijmegen\, Ne
 derland;X-APPLE-RADIUS=100;X-TITLE=Goffertpark:geo:0,0
END:VEVENT
BEGIN:VTIMEZONE
TZID:Europe/Amsterdam
X-LIC-LOCATION:Europe/Amsterdam
BEGIN:DAYLIGHT
DTSTART:20260329T030000
TZOFFSETFROM:+0100
TZOFFSETTO:+0200
TZNAME:CEST
END:DAYLIGHT
END:VTIMEZONE
END:VCALENDAR