BEGIN:VCALENDAR
VERSION:2.0
PRODID:-//wp-events-plugin.com//6.4.7.3//EN
BEGIN:VEVENT
UID:215@huisvoordebinnenstad.nl
DTSTART;TZID=Europe/Amsterdam:20260424T000000
DTEND;TZID=Europe/Amsterdam:20260427T000000
DTSTAMP:20260210T081121Z
URL:https://huisvoordebinnenstad.nl/events/?event=koningsnacht-en-dag-mole
 nstraat
SUMMARY:Koningsnacht en -dag Molenstraat
DESCRIPTION:
CATEGORIES:Activiteit,Muziek
LOCATION:Molenstraat\, Molenstraat\, Nijmegen\, Nederland
X-APPLE-STRUCTURED-LOCATION;VALUE=URI;X-ADDRESS=Molenstraat\, Nijmegen\, Ne
 derland;X-APPLE-RADIUS=100;X-TITLE=Molenstraat:geo:0,0
END:VEVENT
BEGIN:VTIMEZONE
TZID:Europe/Amsterdam
X-LIC-LOCATION:Europe/Amsterdam
BEGIN:DAYLIGHT
DTSTART:20260329T030000
TZOFFSETFROM:+0100
TZOFFSETTO:+0200
TZNAME:CEST
END:DAYLIGHT
END:VTIMEZONE
END:VCALENDAR