BEGIN:VCALENDAR
VERSION:2.0
PRODID:-//wp-events-plugin.com//6.4.7.3//EN
BEGIN:VEVENT
UID:242@huisvoordebinnenstad.nl
DTSTART;TZID=Europe/Amsterdam:20260619T000000
DTEND;TZID=Europe/Amsterdam:20260621T000000
DTSTAMP:20260210T090855Z
URL:https://huisvoordebinnenstad.nl/events/?event=mout-festival-3
SUMMARY:Mout Festival
DESCRIPTION:
CATEGORIES:Eten &amp; Drinken
LOCATION:Julianapark\, Fagelstraat 1\, Nijmegen\, Nederland
X-APPLE-STRUCTURED-LOCATION;VALUE=URI;X-ADDRESS=Fagelstraat 1\, Nijmegen\, 
 Nederland;X-APPLE-RADIUS=100;X-TITLE=Julianapark:geo:0,0
END:VEVENT
BEGIN:VTIMEZONE
TZID:Europe/Amsterdam
X-LIC-LOCATION:Europe/Amsterdam
BEGIN:DAYLIGHT
DTSTART:20260329T030000
TZOFFSETFROM:+0100
TZOFFSETTO:+0200
TZNAME:CEST
END:DAYLIGHT
END:VTIMEZONE
END:VCALENDAR