BEGIN:VCALENDAR
VERSION:2.0
PRODID:-//wp-events-plugin.com//6.4.7.3//EN
BEGIN:VEVENT
UID:227@huisvoordebinnenstad.nl
DTSTART;TZID=Europe/Amsterdam:20260523T000000
DTEND;TZID=Europe/Amsterdam:20260525T000000
DTSTAMP:20260210T084954Z
URL:https://huisvoordebinnenstad.nl/events/?event=music-meeting-festival
SUMMARY:Music Meeting Festival
DESCRIPTION:
CATEGORIES:Activiteit,Muziek
LOCATION:Mariënburg bij de kapel\, Mariënburg \, Nijmegen\, Nederland
X-APPLE-STRUCTURED-LOCATION;VALUE=URI;X-ADDRESS=Mariënburg \, Nijmegen\, N
 ederland;X-APPLE-RADIUS=100;X-TITLE=Mariënburg bij de kapel:geo:0,0
END:VEVENT
BEGIN:VTIMEZONE
TZID:Europe/Amsterdam
X-LIC-LOCATION:Europe/Amsterdam
BEGIN:DAYLIGHT
DTSTART:20260329T030000
TZOFFSETFROM:+0100
TZOFFSETTO:+0200
TZNAME:CEST
END:DAYLIGHT
END:VTIMEZONE
END:VCALENDAR