BEGIN:VCALENDAR
VERSION:2.0
PRODID:-//wp-events-plugin.com//6.4.7.3//EN
BEGIN:VEVENT
UID:229@huisvoordebinnenstad.nl
DTSTART;TZID=Europe/Amsterdam:20260522T000000
DTEND;TZID=Europe/Amsterdam:20260525T000000
DTSTAMP:20260210T085134Z
URL:https://huisvoordebinnenstad.nl/events/?event=nijmeegse-bierfeesten-2
SUMMARY:Nijmeegse Bierfeesten
DESCRIPTION:
CATEGORIES:Activiteit,Eten &amp; Drinken
LOCATION:Valkhofpark\, Valkhofpark\, Nijmegen\, Nederland
X-APPLE-STRUCTURED-LOCATION;VALUE=URI;X-ADDRESS=Valkhofpark\, Nijmegen\, Ne
 derland;X-APPLE-RADIUS=100;X-TITLE=Valkhofpark:geo:0,0
END:VEVENT
BEGIN:VTIMEZONE
TZID:Europe/Amsterdam
X-LIC-LOCATION:Europe/Amsterdam
BEGIN:DAYLIGHT
DTSTART:20260329T030000
TZOFFSETFROM:+0100
TZOFFSETTO:+0200
TZNAME:CEST
END:DAYLIGHT
END:VTIMEZONE
END:VCALENDAR