BEGIN:VCALENDAR
VERSION:2.0
PRODID:-//wp-events-plugin.com//6.4.7.3//EN
BEGIN:VEVENT
UID:273@huisvoordebinnenstad.nl
DTSTART;TZID=Europe/Amsterdam:20261225T000000
DTEND;TZID=Europe/Amsterdam:20261227T000000
DTSTAMP:20260210T094415Z
URL:https://huisvoordebinnenstad.nl/events/?event=nijmeegse-winterfeesten
SUMMARY:Nijmeegse Winterfeesten
DESCRIPTION:
CATEGORIES:Activiteit
LOCATION:Hunnerpark (bij het bloemenwapen)\, Kelfkensbos\, Hunnerpark (bij 
 het bloemenwapen)\, Nijmegen\, Nederland
X-APPLE-STRUCTURED-LOCATION;VALUE=URI;X-ADDRESS=Kelfkensbos\, Hunnerpark (b
 ij het bloemenwapen)\, Nijmegen\, Nederland;X-APPLE-RADIUS=100;X-TITLE=Hun
 nerpark (bij het bloemenwapen):geo:0,0
END:VEVENT
BEGIN:VTIMEZONE
TZID:Europe/Amsterdam
X-LIC-LOCATION:Europe/Amsterdam
BEGIN:STANDARD
DTSTART:20261025T020000
TZOFFSETFROM:+0200
TZOFFSETTO:+0100
TZNAME:CET
END:STANDARD
END:VTIMEZONE
END:VCALENDAR