BEGIN:VCALENDAR
VERSION:2.0
PRODID:-//wp-events-plugin.com//6.4.7.3//EN
BEGIN:VEVENT
UID:272@huisvoordebinnenstad.nl
DTSTART;TZID=Europe/Amsterdam:20261212T000000
DTEND;TZID=Europe/Amsterdam:20270103T000000
DTSTAMP:20260210T094329Z
URL:https://huisvoordebinnenstad.nl/events/?event=nijmeegse-winterweken-3
SUMMARY:Nijmeegse Winterweken.
DESCRIPTION:
CATEGORIES:Activiteit
LOCATION:Centrumstraten Nijmegen\, Centrumstraten \, Nijmegen\, Nederland
X-APPLE-STRUCTURED-LOCATION;VALUE=URI;X-ADDRESS=Centrumstraten \, Nijmegen\
 , Nederland;X-APPLE-RADIUS=100;X-TITLE=Centrumstraten Nijmegen:geo:0,0
END:VEVENT
BEGIN:VTIMEZONE
TZID:Europe/Amsterdam
X-LIC-LOCATION:Europe/Amsterdam
BEGIN:STANDARD
DTSTART:20261025T020000
TZOFFSETFROM:+0200
TZOFFSETTO:+0100
TZNAME:CET
END:STANDARD
END:VTIMEZONE
END:VCALENDAR