BEGIN:VCALENDAR
VERSION:2.0
PRODID:-//wp-events-plugin.com//6.4.7.3//EN
BEGIN:VEVENT
UID:225@huisvoordebinnenstad.nl
DTSTART;TZID=Europe/Amsterdam:20260515T000000
DTEND;TZID=Europe/Amsterdam:20260515T000000
DTSTAMP:20260210T084825Z
URL:https://huisvoordebinnenstad.nl/events/?event=novio-magica-fantasy-fes
 tival
SUMMARY:Novio Magica Fantasy festival
DESCRIPTION:
CATEGORIES:Activiteit
LOCATION:Binnenstad Nijmegen\, Binnenstad\, Nijmegen\, Nederland
X-APPLE-STRUCTURED-LOCATION;VALUE=URI;X-ADDRESS=Binnenstad\, Nijmegen\, Ned
 erland;X-APPLE-RADIUS=100;X-TITLE=Binnenstad Nijmegen:geo:0,0
END:VEVENT
BEGIN:VTIMEZONE
TZID:Europe/Amsterdam
X-LIC-LOCATION:Europe/Amsterdam
BEGIN:DAYLIGHT
DTSTART:20260329T030000
TZOFFSETFROM:+0100
TZOFFSETTO:+0200
TZNAME:CEST
END:DAYLIGHT
END:VTIMEZONE
END:VCALENDAR