BEGIN:VCALENDAR
VERSION:2.0
PRODID:-//wp-events-plugin.com//6.4.7.3//EN
BEGIN:VEVENT
UID:256@huisvoordebinnenstad.nl
DTSTART;TZID=Europe/Amsterdam:20260816T000000
DTEND;TZID=Europe/Amsterdam:20260824T000000
DTSTAMP:20260210T092800Z
URL:https://huisvoordebinnenstad.nl/events/?event=oersoep-craft-beer-festi
 val-2
SUMMARY:Oersoep Craft Beer Festival
DESCRIPTION:
CATEGORIES:Eten &amp; Drinken
LOCATION:Waalplein\, Waalplein 7\, Nijmegen\, Nederland
X-APPLE-STRUCTURED-LOCATION;VALUE=URI;X-ADDRESS=Waalplein 7\, Nijmegen\, Ne
 derland;X-APPLE-RADIUS=100;X-TITLE=Waalplein:geo:0,0
END:VEVENT
BEGIN:VTIMEZONE
TZID:Europe/Amsterdam
X-LIC-LOCATION:Europe/Amsterdam
BEGIN:DAYLIGHT
DTSTART:20260329T030000
TZOFFSETFROM:+0100
TZOFFSETTO:+0200
TZNAME:CEST
END:DAYLIGHT
END:VTIMEZONE
END:VCALENDAR