BEGIN:VCALENDAR
VERSION:2.0
PRODID:-//wp-events-plugin.com//6.4.7.3//EN
BEGIN:VEVENT
UID:244@huisvoordebinnenstad.nl
DTSTART;TZID=Europe/Amsterdam:20260620T000000
DTEND;TZID=Europe/Amsterdam:20260620T000000
DTSTAMP:20260210T091046Z
URL:https://huisvoordebinnenstad.nl/events/?event=rainbow-summer-sports-2
SUMMARY:Rainbow Summer Sports
DESCRIPTION:
CATEGORIES:Sport
LOCATION:Lentse Plas\, Lentse Plas\, Lent\, Nederland
X-APPLE-STRUCTURED-LOCATION;VALUE=URI;X-ADDRESS=Lentse Plas\, Lent\, Nederl
 and;X-APPLE-RADIUS=100;X-TITLE=Lentse Plas:geo:0,0
END:VEVENT
BEGIN:VTIMEZONE
TZID:Europe/Amsterdam
X-LIC-LOCATION:Europe/Amsterdam
BEGIN:DAYLIGHT
DTSTART:20260329T030000
TZOFFSETFROM:+0100
TZOFFSETTO:+0200
TZNAME:CEST
END:DAYLIGHT
END:VTIMEZONE
END:VCALENDAR