BEGIN:VCALENDAR
VERSION:2.0
PRODID:-//wp-events-plugin.com//6.4.7.3//EN
BEGIN:VEVENT
UID:235@huisvoordebinnenstad.nl
DTSTART;TZID=Europe/Amsterdam:20260605T000000
DTEND;TZID=Europe/Amsterdam:20260613T000000
DTSTAMP:20260210T090201Z
URL:https://huisvoordebinnenstad.nl/events/?event=stek-reunie
SUMMARY:Stek Reunie
DESCRIPTION:
CATEGORIES:Activiteit
LOCATION:Hunnerpark (bij het bloemenwapen)\, Hunnerpark\, Nijmegen\, Nederl
 and
X-APPLE-STRUCTURED-LOCATION;VALUE=URI;X-ADDRESS=Hunnerpark\, Nijmegen\, Ned
 erland;X-APPLE-RADIUS=100;X-TITLE=Hunnerpark (bij het bloemenwapen):geo:0,
 0
END:VEVENT
BEGIN:VTIMEZONE
TZID:Europe/Amsterdam
X-LIC-LOCATION:Europe/Amsterdam
BEGIN:DAYLIGHT
DTSTART:20260329T030000
TZOFFSETFROM:+0100
TZOFFSETTO:+0200
TZNAME:CEST
END:DAYLIGHT
END:VTIMEZONE
END:VCALENDAR