BEGIN:VCALENDAR
VERSION:2.0
PRODID:-//wp-events-plugin.com//6.4.7.3//EN
BEGIN:VEVENT
UID:261@huisvoordebinnenstad.nl
DTSTART;TZID=Europe/Amsterdam:20260906T000000
DTEND;TZID=Europe/Amsterdam:20260906T000000
DTSTAMP:20260210T093327Z
URL:https://huisvoordebinnenstad.nl/events/?event=swim-bootcamp-to-fight-c
 ancer
SUMMARY:Swim & Bootcamp to Fight Cancer.
DESCRIPTION:
CATEGORIES:Sport
LOCATION:Lentse Warande\, Lentse Warande\, Nijmegen\, Nederland
X-APPLE-STRUCTURED-LOCATION;VALUE=URI;X-ADDRESS=Lentse Warande\, Nijmegen\,
  Nederland;X-APPLE-RADIUS=100;X-TITLE=Lentse Warande:geo:0,0
END:VEVENT
BEGIN:VTIMEZONE
TZID:Europe/Amsterdam
X-LIC-LOCATION:Europe/Amsterdam
BEGIN:DAYLIGHT
DTSTART:20260329T030000
TZOFFSETFROM:+0100
TZOFFSETTO:+0200
TZNAME:CEST
END:DAYLIGHT
END:VTIMEZONE
END:VCALENDAR