BEGIN:VCALENDAR
VERSION:2.0
PRODID:-//wp-events-plugin.com//6.4.7.3//EN
BEGIN:VEVENT
UID:263@huisvoordebinnenstad.nl
DTSTART;TZID=Europe/Amsterdam:20260912T000000
DTEND;TZID=Europe/Amsterdam:20260912T000000
DTSTAMP:20260210T093458Z
URL:https://huisvoordebinnenstad.nl/events/?event=the-big-draw-nijmegen-2
SUMMARY:The Big Draw Nijmegen
DESCRIPTION:
CATEGORIES:Activiteit
LOCATION:Centrumstraten Nijmegen\, Centrum\, Nijmegen\, Nederland
X-APPLE-STRUCTURED-LOCATION;VALUE=URI;X-ADDRESS=Centrum\, Nijmegen\, Nederl
 and;X-APPLE-RADIUS=100;X-TITLE=Centrumstraten Nijmegen:geo:0,0
END:VEVENT
BEGIN:VTIMEZONE
TZID:Europe/Amsterdam
X-LIC-LOCATION:Europe/Amsterdam
BEGIN:DAYLIGHT
DTSTART:20260329T030000
TZOFFSETFROM:+0100
TZOFFSETTO:+0200
TZNAME:CEST
END:DAYLIGHT
END:VTIMEZONE
END:VCALENDAR