BEGIN:VCALENDAR
VERSION:2.0
PRODID:-//wp-events-plugin.com//6.4.7.3//EN
BEGIN:VEVENT
UID:240@huisvoordebinnenstad.nl
DTSTART;TZID=Europe/Amsterdam:20260611T000000
DTEND;TZID=Europe/Amsterdam:20260719T000000
DTSTAMP:20260210T090628Z
URL:https://huisvoordebinnenstad.nl/events/?event=wk-voetbal-faberplein
SUMMARY:WK Voetbal Faberplein
DESCRIPTION:
CATEGORIES:Sport
LOCATION:Mariënburg bij het kunstgras\, Mariënburg\, Nijmegen\, Nederland
X-APPLE-STRUCTURED-LOCATION;VALUE=URI;X-ADDRESS=Mariënburg\, Nijmegen\, Ne
 derland;X-APPLE-RADIUS=100;X-TITLE=Mariënburg bij het kunstgras:geo:0,0
END:VEVENT
BEGIN:VTIMEZONE
TZID:Europe/Amsterdam
X-LIC-LOCATION:Europe/Amsterdam
BEGIN:DAYLIGHT
DTSTART:20260329T030000
TZOFFSETFROM:+0100
TZOFFSETTO:+0200
TZNAME:CEST
END:DAYLIGHT
END:VTIMEZONE
END:VCALENDAR