BEGIN:VCALENDAR
VERSION:2.0
PRODID:-//wp-events-plugin.com//6.4.7.3//EN
BEGIN:VEVENT
UID:237@huisvoordebinnenstad.nl
DTSTART;TZID=Europe/Amsterdam:20260613T000000
DTEND;TZID=Europe/Amsterdam:20260621T000000
DTSTAMP:20260210T090401Z
URL:https://huisvoordebinnenstad.nl/events/?event=zomerkermis-2
SUMMARY:Zomerkermis
DESCRIPTION:
CATEGORIES:Activiteit
LOCATION:Waalkade\, Waalkade Oost\, Nijmegen\, Nederland
X-APPLE-STRUCTURED-LOCATION;VALUE=URI;X-ADDRESS=Waalkade Oost\, Nijmegen\, 
 Nederland;X-APPLE-RADIUS=100;X-TITLE=Waalkade:geo:0,0
END:VEVENT
BEGIN:VTIMEZONE
TZID:Europe/Amsterdam
X-LIC-LOCATION:Europe/Amsterdam
BEGIN:DAYLIGHT
DTSTART:20260329T030000
TZOFFSETFROM:+0100
TZOFFSETTO:+0200
TZNAME:CEST
END:DAYLIGHT
END:VTIMEZONE
END:VCALENDAR